BEGIN:VCALENDAR
VERSION:2.0
PRODID:-//Atlanta History Center - ECPv6.11.2//NONSGML v1.0//EN
CALSCALE:GREGORIAN
METHOD:PUBLISH
X-WR-CALNAME:Atlanta History Center
X-ORIGINAL-URL:https://www.atlantahistorycenter.com
X-WR-CALDESC:Events for Atlanta History Center
REFRESH-INTERVAL;VALUE=DURATION:PT1H
X-Robots-Tag:noindex
X-PUBLISHED-TTL:PT1H
BEGIN:VTIMEZONE
TZID:America/New_York
BEGIN:DAYLIGHT
TZOFFSETFROM:-0500
TZOFFSETTO:-0400
TZNAME:EDT
DTSTART:20260308T070000
END:DAYLIGHT
BEGIN:STANDARD
TZOFFSETFROM:-0400
TZOFFSETTO:-0500
TZNAME:EST
DTSTART:20261101T060000
END:STANDARD
END:VTIMEZONE
BEGIN:VEVENT
DTSTART;TZID=America/New_York:20260519T110000
DTEND;TZID=America/New_York:20260519T110000
DTSTAMP:20260421T152601
CREATED:20260421T162656Z
LAST-MODIFIED:20260421T174558Z
UID:86879-1779188400-1779188400@www.atlantahistorycenter.com
SUMMARY:Members Only: Beauty Walk
DESCRIPTION:Member \n                            \n                    Tickets\n                \n                    \n\n            \n\n\n\n\n\n    \n        \n            Not Yet a Member? \n                            \n                    Become a Member\n                \n                    \n\n            \n\n\n\n\nEnjoy a seasonally-focused\, guided visit to some of the most beautiful spaces in Goizueta Gardens alongside one of our professional horticulturists. No Beauty Walk is the same with new views every tour. Capacity is limited\, reserve your spot now! \n\n\n\nTo reserve your spot\, log into your account and reserve your tickets to your cart. You will then be prompted to add-on for the Beauty Walk. 
URL:https://www.atlantahistorycenter.com/event/members-only-beauty-walk/
LOCATION:Atlanta History Center\, 130 West Paces Ferry Road NW\, Atlanta\, GA\, 30305\, United States
CATEGORIES:For Members,Gardens,Main Campus
ATTACH;FMTTYPE=image/jpeg:https://www.atlantahistorycenter.com/app/uploads/2026/04/50-scaled.jpg
END:VEVENT
END:VCALENDAR